BEGIN:VCALENDAR
VERSION:2.0
PRODID:-//Visit Mesquite - ECPv6.15.20//NONSGML v1.0//EN
CALSCALE:GREGORIAN
METHOD:PUBLISH
X-ORIGINAL-URL:https://www.visitmesquitetx.com
X-WR-CALDESC:Events for Visit Mesquite
REFRESH-INTERVAL;VALUE=DURATION:PT1H
X-Robots-Tag:noindex
X-PUBLISHED-TTL:PT1H
BEGIN:VTIMEZONE
TZID:America/New_York
BEGIN:DAYLIGHT
TZOFFSETFROM:-0500
TZOFFSETTO:-0400
TZNAME:EDT
DTSTART:20230312T070000
END:DAYLIGHT
BEGIN:STANDARD
TZOFFSETFROM:-0400
TZOFFSETTO:-0500
TZNAME:EST
DTSTART:20231105T060000
END:STANDARD
BEGIN:DAYLIGHT
TZOFFSETFROM:-0500
TZOFFSETTO:-0400
TZNAME:EDT
DTSTART:20240310T070000
END:DAYLIGHT
BEGIN:STANDARD
TZOFFSETFROM:-0400
TZOFFSETTO:-0500
TZNAME:EST
DTSTART:20241103T060000
END:STANDARD
BEGIN:DAYLIGHT
TZOFFSETFROM:-0500
TZOFFSETTO:-0400
TZNAME:EDT
DTSTART:20250309T070000
END:DAYLIGHT
BEGIN:STANDARD
TZOFFSETFROM:-0400
TZOFFSETTO:-0500
TZNAME:EST
DTSTART:20251102T060000
END:STANDARD
END:VTIMEZONE
BEGIN:VEVENT
DTSTART;TZID=America/New_York:20240601T090000
DTEND;TZID=America/New_York:20240601T130000
DTSTAMP:20260422T043937
CREATED:20240507T211435Z
LAST-MODIFIED:20240725T154312Z
UID:10000516-1717232400-1717246800@www.visitmesquitetx.com
SUMMARY:Downtown Mesquite Farmers Market
DESCRIPTION:shop the best local goods at the \n\n\n\ndowntown mesquite farmers market\n\n\n\nWhen craving some of that Real Texas Flavor\, look no further than the Downtown Mesquite Farmers Market! \n\n\n\nEvery Saturday from 9 a.m. to 1 p.m. April through November\, head to Front Street Station to discover a wide variety of local goods. Discover a selection of artisanal products\, locally grown produce\, baked goods\, bath and body products and more. Enjoy a scrumptious meal from one of our food vendors who offer everything from ice cream to snow cones\, barbecue to classic fair food\, and relax in front of the new outdoor stage and listen to some tunes performed by local singers and musical artists. \n\n\n\nEach week\, the Downtown Mesquite Farmers Market brings something new for everyone to enjoy. Whether you are looking to fill your pantry\, somewhere to relax and enjoy some good food or enjoy some good company and stellar music\, the Downtown Mesquite Farmers Market is the place to be. \n\n\n\n\nLEARN MORE
URL:https://www.visitmesquitetx.com/event/downtown-mesquite-farmers-market/2024-06-01/
CATEGORIES:Arts & Entertainment,Community,Festivals
ATTACH;FMTTYPE=image/jpeg:https://www.visitmesquitetx.com/wp-content/uploads/2024/05/MicrosoftTeams-image-3-e1772224766147.jpg
END:VEVENT
BEGIN:VEVENT
DTSTART;TZID=America/New_York:20240601T190000
DTEND;TZID=America/New_York:20240601T210000
DTSTAMP:20260422T043937
CREATED:20240515T133626Z
LAST-MODIFIED:20240515T133723Z
UID:10000776-1717268400-1717275600@www.visitmesquitetx.com
SUMMARY:Off the Rails Concert Series - Loyal Sally
DESCRIPTION:Mesquite Arts Center Free Concert Servies \n\n\n\nLoyal Sally live at off the rails!\n\n\n\nPlease join the Mesquite Arts Council as we welcome local band “Loyal Sally” to the Downtown Mesquite Front Street Station (100 W. Front Street Station) stage for our annual family-friendly “Off the Rails” concert series on Sat\, June 1 at 7 pm. This event is FREE and open to the public. Bring your own chair  and cooler.  \n\n\n\n\nMore Info
URL:https://www.visitmesquitetx.com/event/off-the-rails-concert-series-loyal-sally/
LOCATION:Front Street Station Downtown Mesquite\, 100 W Front St\, Mesquite\, Texas\, 75149\, United States
CATEGORIES:Music,Arts & Entertainment,Community
ATTACH;FMTTYPE=image/jpeg:https://www.visitmesquitetx.com/wp-content/uploads/2024/05/Loyal-Sally-web-8717-Mesquite-Arts-Center.jpg
END:VEVENT
BEGIN:VEVENT
DTSTART;TZID=America/New_York:20240603T190000
DTEND;TZID=America/New_York:20240603T210000
DTSTAMP:20260422T043937
CREATED:20240515T153634Z
LAST-MODIFIED:20240515T153639Z
UID:10000784-1717441200-1717448400@www.visitmesquitetx.com
SUMMARY:Jazz Breaks featuring "Wives and Lovers"
DESCRIPTION:mesquite arts center – 1527 N Galloway Ave.  \n\n\n\nCourtyard concert series with mr. inez\n\n\n\nPlease join the Mesquite Arts Council as they welcome “Wives and Lovers” to the Mesquite Arts Center’s Jazz Breaks concert stage on Monday\, June 3 at 7 PM. This event is FREE and open to the public. Bistro Tables + chairs will be set up on a first-come\, first-served basis. Refreshments will be served. In the case of bad weather\, this event will move inside the Mesquite Arts Center’s rehearsal hall. \n\n\n\n\nMore Info
URL:https://www.visitmesquitetx.com/event/jazz-breaks-featuring-wives-and-lovers/
CATEGORIES:Music,Arts & Entertainment,Community
ATTACH;FMTTYPE=image/jpeg:https://www.visitmesquitetx.com/wp-content/uploads/2024/05/357409528_750069907124456_2157556666180527910_n-Mesquite-Arts-Center.jpg
END:VEVENT
BEGIN:VEVENT
DTSTART;TZID=America/New_York:20240606T183000
DTEND;TZID=America/New_York:20240606T223000
DTSTAMP:20260422T043937
CREATED:20240523T184737Z
LAST-MODIFIED:20240523T184744Z
UID:10000790-1717698600-1717713000@www.visitmesquitetx.com
SUMMARY:Open Mic Night
DESCRIPTION:Wild Honey & Bear Cave Coffee –  \n\n\n\nOpen Mic Night in Downtown Mesquite!\n\n\n\nWho is ready for a classic open mic night? Hosted with Bear Cave Coffee and Wild Honey\, MC-ed by our barista friend Macks\, this is an up and coming event at the Corner Theatre in Downtown Mesquite\, Texas! Free admission Doors Open: 6:30PM Show Starts: 7:15PM Come in & enjoy local talent! See you there!
URL:https://www.visitmesquitetx.com/event/open-mic-night/
CATEGORIES:Music,Arts & Entertainment,Community
ATTACH;FMTTYPE=image/jpeg:https://www.visitmesquitetx.com/wp-content/uploads/2024/05/428467940_122116194698203274_672384671786597697_n.jpg
END:VEVENT
BEGIN:VEVENT
DTSTART;TZID=America/New_York:20240606T190000
DTEND;TZID=America/New_York:20240606T210000
DTSTAMP:20260422T043937
CREATED:20240515T152914Z
LAST-MODIFIED:20240515T153304Z
UID:10000783-1717700400-1717707600@www.visitmesquitetx.com
SUMMARY:Courtyard Concert Series with Mr. Inez
DESCRIPTION:mesquite arts center – 1527 N Galloway Ave.  \n\n\n\nCourtyard concert series with mr. inez\n\n\n\nPlease join the Mesquite Arts Council as they welcome “Mr. Inez” to the Mesquite Arts Center’s courtyard concert stage on Thursday\, June 6 at 7 PM. This event is FREE and open to the public. Bistro Tables + chairs will be set up on a first-come\, first-served basis. Refreshments will be served. In the case of bad weather\, this event will move inside the Mesquite Arts Center’s rehearsal hall. \n\n\n\n\nMore Info
URL:https://www.visitmesquitetx.com/event/7925/
CATEGORIES:Music,Arts & Entertainment,Community
ATTACH;FMTTYPE=image/jpeg:https://www.visitmesquitetx.com/wp-content/uploads/2024/05/MAC_MrInez-web-5465-Mesquite-Arts-Center.jpg
END:VEVENT
BEGIN:VEVENT
DTSTART;TZID=America/New_York:20240608T090000
DTEND;TZID=America/New_York:20240608T130000
DTSTAMP:20260422T043937
CREATED:20240507T211435Z
LAST-MODIFIED:20240725T154312Z
UID:10000517-1717837200-1717851600@www.visitmesquitetx.com
SUMMARY:Downtown Mesquite Farmers Market
DESCRIPTION:shop the best local goods at the \n\n\n\ndowntown mesquite farmers market\n\n\n\nWhen craving some of that Real Texas Flavor\, look no further than the Downtown Mesquite Farmers Market! \n\n\n\nEvery Saturday from 9 a.m. to 1 p.m. April through November\, head to Front Street Station to discover a wide variety of local goods. Discover a selection of artisanal products\, locally grown produce\, baked goods\, bath and body products and more. Enjoy a scrumptious meal from one of our food vendors who offer everything from ice cream to snow cones\, barbecue to classic fair food\, and relax in front of the new outdoor stage and listen to some tunes performed by local singers and musical artists. \n\n\n\nEach week\, the Downtown Mesquite Farmers Market brings something new for everyone to enjoy. Whether you are looking to fill your pantry\, somewhere to relax and enjoy some good food or enjoy some good company and stellar music\, the Downtown Mesquite Farmers Market is the place to be. \n\n\n\n\nLEARN MORE
URL:https://www.visitmesquitetx.com/event/downtown-mesquite-farmers-market/2024-06-08/
CATEGORIES:Arts & Entertainment,Community,Festivals
ATTACH;FMTTYPE=image/jpeg:https://www.visitmesquitetx.com/wp-content/uploads/2024/05/MicrosoftTeams-image-3-e1772224766147.jpg
END:VEVENT
BEGIN:VEVENT
DTSTART;TZID=America/New_York:20240608T190000
DTEND;TZID=America/New_York:20240608T210000
DTSTAMP:20260422T043937
CREATED:20240515T134301Z
LAST-MODIFIED:20240515T134312Z
UID:10000778-1717873200-1717880400@www.visitmesquitetx.com
SUMMARY:Off the Rails Concert Series - Alpha Dogs
DESCRIPTION:Mesquite Arts Center Free Concert Servies \n\n\n\nAlpha dogs live at off the rails!\n\n\n\nPlease join the Mesquite Arts Council as we welcome local band “Alpha Dogs” to the Downtown Mesquite Front Street Station (100 W. Front Street Station) stage for our annual family-friendly “Off the Rails” concert series on Sat\, June 1 at 7 pm. This event is FREE and open to the public. Bring your own chair and cooler. \n\n\n\n\nMore Info
URL:https://www.visitmesquitetx.com/event/off-the-rails-concert-series-alpha-dogs/
LOCATION:Front Street Station Downtown Mesquite\, 100 W Front St\, Mesquite\, Texas\, 75149\, United States
CATEGORIES:Music,Arts & Entertainment,Community
ATTACH;FMTTYPE=image/png:https://www.visitmesquitetx.com/wp-content/uploads/2024/05/2024.06.08_Alpha-Dogs-Mesquite-Arts-Center.png
END:VEVENT
BEGIN:VEVENT
DTSTART;TZID=America/New_York:20240610T190000
DTEND;TZID=America/New_York:20240610T200000
DTSTAMP:20260422T043937
CREATED:20240515T154234Z
LAST-MODIFIED:20240515T154237Z
UID:10000785-1718046000-1718049600@www.visitmesquitetx.com
SUMMARY:Summertime Showcase presents "Pop in the Park"
DESCRIPTION:Mesquite Arts Center – 1527 nORTH GALLOWAY AVE. \n\n\n\nsUMMERTIME sHOWCASE PRESENTS THE mESQUITE cOMMUNITY bAND\n\n\n\nPlease join the Mesquite Community Band for a NEW! concert series called “Summertime Showcase”. This concert series will highlight some of the favorite performances of the Summertime. “Pop In The Park” will reminisce the performances of the formally known “Music In The Park” with a Pop music twist. Come grab a set early inside the concert hall space. Doors open at 6:30 PM. No food or drink will be allowed inside the concert hall space. This is a rain-or-shine event! \n\n\n\n\nMore Info
URL:https://www.visitmesquitetx.com/event/summertime-showcase-presents-pop-in-the-park/
CATEGORIES:Music,Arts & Entertainment,Community
ATTACH;FMTTYPE=image/jpeg:https://www.visitmesquitetx.com/wp-content/uploads/2024/05/MusicInThePark-web-19-Mesquite-Arts-Center.jpg
END:VEVENT
BEGIN:VEVENT
DTSTART;TZID=America/New_York:20240615T090000
DTEND;TZID=America/New_York:20240615T130000
DTSTAMP:20260422T043937
CREATED:20240507T211435Z
LAST-MODIFIED:20240725T154312Z
UID:10000518-1718442000-1718456400@www.visitmesquitetx.com
SUMMARY:Downtown Mesquite Farmers Market
DESCRIPTION:shop the best local goods at the \n\n\n\ndowntown mesquite farmers market\n\n\n\nWhen craving some of that Real Texas Flavor\, look no further than the Downtown Mesquite Farmers Market! \n\n\n\nEvery Saturday from 9 a.m. to 1 p.m. April through November\, head to Front Street Station to discover a wide variety of local goods. Discover a selection of artisanal products\, locally grown produce\, baked goods\, bath and body products and more. Enjoy a scrumptious meal from one of our food vendors who offer everything from ice cream to snow cones\, barbecue to classic fair food\, and relax in front of the new outdoor stage and listen to some tunes performed by local singers and musical artists. \n\n\n\nEach week\, the Downtown Mesquite Farmers Market brings something new for everyone to enjoy. Whether you are looking to fill your pantry\, somewhere to relax and enjoy some good food or enjoy some good company and stellar music\, the Downtown Mesquite Farmers Market is the place to be. \n\n\n\n\nLEARN MORE
URL:https://www.visitmesquitetx.com/event/downtown-mesquite-farmers-market/2024-06-15/
CATEGORIES:Arts & Entertainment,Community,Festivals
ATTACH;FMTTYPE=image/jpeg:https://www.visitmesquitetx.com/wp-content/uploads/2024/05/MicrosoftTeams-image-3-e1772224766147.jpg
END:VEVENT
BEGIN:VEVENT
DTSTART;TZID=America/New_York:20240615T190000
DTEND;TZID=America/New_York:20240615T210000
DTSTAMP:20260422T043937
CREATED:20240515T134519Z
LAST-MODIFIED:20240614T190136Z
UID:10000779-1718478000-1718485200@www.visitmesquitetx.com
SUMMARY:Off the Rails Concert Series - Hooplo
DESCRIPTION:Mesquite Arts Center Free Concert Servies \n\n\n\nHooplo live at off the rails!\n\n\n\nPlease join the Mesquite Arts Council as we welcome local band “Hooplo” to the Downtown Mesquite Front Street Station (100 W. Front Street Station) stage for our annual family-friendly “Off the Rails” concert series on Sat\, June 1 at 7 pm. This event is FREE and open to the public. Bring your own chair and cooler. \n\n\n\n\nMore Info\n\n\n\n\n\n\n\n\n\n	\n		\n			\n\nFeatured events\n\n\n\n\n\n\n\nCheck out our awesome list of curated events in Mesquite\, Texas. \n\n\n\n\n\n\n\n\n\n\n\n\n\n\n			\n									\n													\n	\n		\n			\n				\n																				\n			\n			\n				\n											\n							Music						\n					\n					\n						\n							Dallas Jazz Orchestra						\n					\n\n											\n															\n									April 26\, 2026									@ 7:00 pm – 9:00 pm								 \n							\n							\n															\n									Every month that begins at 7:00 pm on day Fourth of the month\, repeating indefinitely – View All								 \n							\n													\n									\n				\n					\n						\n							View Details\n						\n					\n									\n			\n		\n	\n	\n													\n	\n		\n			\n				\n																				\n			\n			\n				\n											\n							Music						\n					\n					\n						\n							Rock Ridge Big Band						\n					\n\n											\n															\n									May 3\, 2026									@ 7:00 pm – 9:00 pm								 \n							\n							\n															\n									Every month that begins at 7:00 pm on day First of the month\, repeating indefinitely – View All								 \n							\n													\n									\n				\n					\n						\n							View Details\n						\n					\n									\n			\n		\n	\n	\n													\n	\n		\n			\n				\n																				\n			\n			\n				\n											\n							Music						\n					\n					\n						\n							Dallas Jazz Orchestra						\n					\n\n											\n															\n									May 10\, 2026									@ 7:00 pm – 9:00 pm								 \n							\n							\n															\n									Every month that begins at 7:00 pm on day Second of the month\, repeating indefinitely – View All								 \n							\n													\n									\n				\n					\n						\n							View Details
URL:https://www.visitmesquitetx.com/event/off-the-rails-concert-series-hooplo/
LOCATION:Front Street Station Downtown Mesquite\, 100 W Front St\, Mesquite\, Texas\, 75149\, United States
CATEGORIES:Rodeo,Music,Arts & Entertainment,Community,Conventions & Expos,Festivals,Sports
ATTACH;FMTTYPE=image/jpeg:https://www.visitmesquitetx.com/wp-content/uploads/2024/05/Hooplo-web-29-Mesquite-Arts-Center.jpg
END:VEVENT
BEGIN:VEVENT
DTSTART;TZID=America/New_York:20240617T190000
DTEND;TZID=America/New_York:20240617T210000
DTSTAMP:20260422T043937
CREATED:20240523T185018Z
LAST-MODIFIED:20240617T203037Z
UID:10000791-1718650800-1718658000@www.visitmesquitetx.com
SUMMARY:Jazz Breaks | Memphis Brass & Dave Alexander
DESCRIPTION:Mesquite Arts Center – 1527 N Galloway Ave \n\n\n\nGroove to Free Jazz Music at Mesquite Arts Center!\n\n\n\nPlease join the Mesquite Arts Council as they welcome “Memphis Brass & Dave Alexander” to the Mesquite Arts Center’s Jazz Breaks concert stage on Monday\, June 17 at 7 PM. This event is FREE and open to the public. Bistro Tables & chairs will be set up on a first-come\, first-served basis. Refreshments will be served. \n\n\n\n\nMore Info
URL:https://www.visitmesquitetx.com/event/jazz-breaks-memphis-brass-dave-alexander/
CATEGORIES:Music,Arts & Entertainment,Community
ATTACH;FMTTYPE=image/jpeg:https://www.visitmesquitetx.com/wp-content/uploads/2024/05/MemphisBrass-web-0789-Mesquite-Arts-Center.jpg
END:VEVENT
BEGIN:VEVENT
DTSTART;TZID=America/New_York:20240620T190000
DTEND;TZID=America/New_York:20240620T210000
DTSTAMP:20260422T043937
CREATED:20240523T184026Z
LAST-MODIFIED:20240523T184107Z
UID:10000788-1718910000-1718917200@www.visitmesquitetx.com
SUMMARY:Mesquite Rocks! with Who's Best
DESCRIPTION:Mesquite Arts Center – 1527 N Galloway Ave \n\n\n\nMesquite Rocks! with Who’s best\n\n\n\nPlease welcome back our annual concert series\, “Mesquite Rocks!\,” highlighting tribute bands from around the DFW area. On Thurs\, June 20 at 7 pm\, the Mesquite Arts Center welcomes “Who’s Best” to perform in front of the facility. This event is free and open to the public. BYO chairs  and coolers. This is a “rain-or-shine” event. In the case of bad weather\, we will move the concert inside.
URL:https://www.visitmesquitetx.com/event/mesquite-rocks-with-whos-best/
CATEGORIES:Music,Arts & Entertainment,Community
ATTACH;FMTTYPE=image/png:https://www.visitmesquitetx.com/wp-content/uploads/2024/05/2024.06.20_Whos-Best-Mesquite-Arts-Center.png
END:VEVENT
BEGIN:VEVENT
DTSTART;TZID=America/New_York:20240622T140000
DTEND;TZID=America/New_York:20240622T180000
DTSTAMP:20260422T043937
CREATED:20240612T142615Z
LAST-MODIFIED:20240612T142908Z
UID:10000797-1719064800-1719079200@www.visitmesquitetx.com
SUMMARY:Mesquite Juneteenth Festival
DESCRIPTION:Paschall Park – 1001 New Market Road  \n\n\n\nCelebrate Juneteenth in mesquite!\n\n\n\nYou are invited to the Mesquite 4th Annual Juneteenth Festival and Celebration! Get ready to join the excitement as we return for another incredible year. There will be vendors\, food\, games\, a live band and so much more for all ages.  The event kicks off at 2pm and wraps up at 6pm. The music lineup features the talented Don Diego and the Razz Band! \n\n\n\nMesquite Juneteenth is a celebration of freedom\, unity and cultural heritage. It’s a time to honor the past\, embrace the present\, and inspire future generations to continue the journey toward equality.  \n\n\n\n\nMore Info
URL:https://www.visitmesquitetx.com/event/mesquite-juneteenth-festival/
CATEGORIES:Music,Arts & Entertainment,Community,Festivals
ATTACH;FMTTYPE=image/jpeg:https://www.visitmesquitetx.com/wp-content/uploads/2024/06/unnamed-Mesquite-NAACP-2.jpg
END:VEVENT
BEGIN:VEVENT
DTSTART;TZID=America/New_York:20240622T190000
DTEND;TZID=America/New_York:20240622T210000
DTSTAMP:20260422T043937
CREATED:20240515T134805Z
LAST-MODIFIED:20240515T154333Z
UID:10000780-1719082800-1719090000@www.visitmesquitetx.com
SUMMARY:Off the Rails Concert Series - Model Citizen
DESCRIPTION:Mesquite Arts Center Free Concert Servies \n\n\n\nModel Citizen live at off the rails!\n\n\n\nPlease join the Mesquite Arts Council as we welcome local band “Model Citizen” to the Downtown Mesquite Front Street Station (100 W. Front Street Station) stage for our annual family-friendly “Off the Rails” concert series on Sat\, June 22 at 7 pm. This event is FREE and open to the public. Bring your own chair and cooler. \n\n\n\n\nMore Info
URL:https://www.visitmesquitetx.com/event/off-the-rails-concert-series-model-citizen/
LOCATION:Front Street Station Downtown Mesquite\, 100 W Front St\, Mesquite\, Texas\, 75149\, United States
CATEGORIES:Music,Arts & Entertainment,Community
ATTACH;FMTTYPE=image/jpeg:https://www.visitmesquitetx.com/wp-content/uploads/2024/05/334164356_1220149388609198_4105661424289575796_n-Mesquite-Arts-Center.jpg
END:VEVENT
BEGIN:VEVENT
DTSTART;TZID=America/New_York:20240624T190000
DTEND;TZID=America/New_York:20240624T210000
DTSTAMP:20260422T043937
CREATED:20240523T184415Z
LAST-MODIFIED:20240624T190922Z
UID:10000789-1719255600-1719262800@www.visitmesquitetx.com
SUMMARY:Summertime Showcase "Celebrate America"
DESCRIPTION:Mesquite Arts Center – 1527 N Galloway Ave \n\n\n\nSummertime Showcase presents “Celebrate America”\n\n\n\nPlease join the Mesquite Community Band for a NEW! concert series called “Summertime Showcase”. This concert series will highlight some of the favorite performances of the Summertime. “Celebrate America” will reminisce the performances of the formally known “Music In The Park” with a patriotic music twist. Come grab a set early inside the concert hall space. Doors open at 6:30 PM. No food or drink will be allowed inside the concert hall space. This is a rain-or-shine event! \n\n\n\n\nMore Info\n\n\n\n\n\n\n\n\n\n	\n		\n\n\n\n		\n			\n		\n\n	\n\n\n\n\n\n	\n		\n			\n\nfeatured events\n\n\n\n\n\n\n\nCheck out our awesome list of curated events in Mesquite\, Texas. \n\n\n\n\n\n\n\n\n\n\n\n\n\n\n			\n									\n													\n	\n		\n			\n				\n																				\n			\n			\n				\n											\n							Music						\n					\n					\n						\n							Dallas Jazz Orchestra						\n					\n\n											\n															\n									April 26\, 2026									@ 7:00 pm – 9:00 pm								 \n							\n							\n															\n									Every month that begins at 7:00 pm on day Fourth of the month\, repeating indefinitely – View All								 \n							\n													\n									\n				\n					\n						\n							View Details\n						\n					\n									\n			\n		\n	\n	\n													\n	\n		\n			\n				\n																				\n			\n			\n				\n											\n							Music						\n					\n					\n						\n							Rock Ridge Big Band						\n					\n\n											\n															\n									May 3\, 2026									@ 7:00 pm – 9:00 pm								 \n							\n							\n															\n									Every month that begins at 7:00 pm on day First of the month\, repeating indefinitely – View All								 \n							\n													\n									\n				\n					\n						\n							View Details\n						\n					\n									\n			\n		\n	\n	\n													\n	\n		\n			\n				\n																				\n			\n			\n				\n											\n							Music						\n					\n					\n						\n							Dallas Jazz Orchestra						\n					\n\n											\n															\n									May 10\, 2026									@ 7:00 pm – 9:00 pm								 \n							\n							\n															\n									Every month that begins at 7:00 pm on day Second of the month\, repeating indefinitely – View All								 \n							\n													\n									\n				\n					\n						\n							View Details
URL:https://www.visitmesquitetx.com/event/summertime-showcase-celebrate-america/
CATEGORIES:Music,Arts & Entertainment,Community
ATTACH;FMTTYPE=image/jpeg:https://www.visitmesquitetx.com/wp-content/uploads/2024/05/MusicInThePark-web-88-Mesquite-Arts-Center.jpg
END:VEVENT
BEGIN:VEVENT
DTSTART;TZID=America/New_York:20240629T190000
DTEND;TZID=America/New_York:20240629T210000
DTSTAMP:20260422T043937
CREATED:20240515T152003Z
LAST-MODIFIED:20240624T190637Z
UID:10000781-1719687600-1719694800@www.visitmesquitetx.com
SUMMARY:Off the Rails Concert Series - Mr. Hat
DESCRIPTION:Mesquite Arts Center Free Concert Servies \n\n\n\nMr. hat live at off the rails!\n\n\n\nPlease join the Mesquite Arts Council as we welcome local band “Mr. Hat” to the Downtown Mesquite Front Street Station (100 W. Front Street Station) stage for our annual family-friendly “Off the Rails” concert series on Sat\, June 29 at 7 pm. This event is FREE and open to the public. Bring your own chair and cooler. \n\n\n\n\nMore Info\n\n\n\n\n\n\n\n\n\n	\n		\n\n\n\n\n\n\n\n		\n			\n		\n\n	\n\n\n\n\n\n	\n		\n			\n\nfeatured events\n\n\n\n\n\n\n\nCheck out our awesome list of curated events in Mesquite\, Texas. \n\n\n\n\n\n\n\n\n\n\n\n\n\n\n			\n									\n													\n	\n		\n			\n				\n																				\n			\n			\n				\n											\n							Music						\n					\n					\n						\n							Dallas Jazz Orchestra						\n					\n\n											\n															\n									April 26\, 2026									@ 7:00 pm – 9:00 pm								 \n							\n							\n															\n									Every month that begins at 7:00 pm on day Fourth of the month\, repeating indefinitely – View All								 \n							\n													\n									\n				\n					\n						\n							View Details\n						\n					\n									\n			\n		\n	\n	\n													\n	\n		\n			\n				\n																				\n			\n			\n				\n											\n							Music						\n					\n					\n						\n							Rock Ridge Big Band						\n					\n\n											\n															\n									May 3\, 2026									@ 7:00 pm – 9:00 pm								 \n							\n							\n															\n									Every month that begins at 7:00 pm on day First of the month\, repeating indefinitely – View All								 \n							\n													\n									\n				\n					\n						\n							View Details\n						\n					\n									\n			\n		\n	\n	\n													\n	\n		\n			\n				\n																				\n			\n			\n				\n											\n							Music						\n					\n					\n						\n							Dallas Jazz Orchestra						\n					\n\n											\n															\n									May 10\, 2026									@ 7:00 pm – 9:00 pm								 \n							\n							\n															\n									Every month that begins at 7:00 pm on day Second of the month\, repeating indefinitely – View All								 \n							\n													\n									\n				\n					\n						\n							View Details
URL:https://www.visitmesquitetx.com/event/off-the-rails-concert-series-mr-hat/
LOCATION:Front Street Station Downtown Mesquite\, 100 W Front St\, Mesquite\, Texas\, 75149\, United States
CATEGORIES:Music,Arts & Entertainment,Community
ATTACH;FMTTYPE=image/jpeg:https://www.visitmesquitetx.com/wp-content/uploads/2024/05/Jade-Flores-web-13-Mesquite-Arts-Center.jpg
END:VEVENT
END:VCALENDAR