BEGIN:VCALENDAR
VERSION:2.0
PRODID:-//Visit Mesquite - ECPv6.15.20//NONSGML v1.0//EN
CALSCALE:GREGORIAN
METHOD:PUBLISH
X-WR-CALNAME:Visit Mesquite
X-ORIGINAL-URL:https://www.visitmesquitetx.com
X-WR-CALDESC:Events for Visit Mesquite
REFRESH-INTERVAL;VALUE=DURATION:PT1H
X-Robots-Tag:noindex
X-PUBLISHED-TTL:PT1H
BEGIN:VTIMEZONE
TZID:America/New_York
BEGIN:DAYLIGHT
TZOFFSETFROM:-0500
TZOFFSETTO:-0400
TZNAME:EDT
DTSTART:20240310T070000
END:DAYLIGHT
BEGIN:STANDARD
TZOFFSETFROM:-0400
TZOFFSETTO:-0500
TZNAME:EST
DTSTART:20241103T060000
END:STANDARD
BEGIN:DAYLIGHT
TZOFFSETFROM:-0500
TZOFFSETTO:-0400
TZNAME:EDT
DTSTART:20250309T070000
END:DAYLIGHT
BEGIN:STANDARD
TZOFFSETFROM:-0400
TZOFFSETTO:-0500
TZNAME:EST
DTSTART:20251102T060000
END:STANDARD
BEGIN:DAYLIGHT
TZOFFSETFROM:-0500
TZOFFSETTO:-0400
TZNAME:EDT
DTSTART:20260308T070000
END:DAYLIGHT
BEGIN:STANDARD
TZOFFSETFROM:-0400
TZOFFSETTO:-0500
TZNAME:EST
DTSTART:20261101T060000
END:STANDARD
END:VTIMEZONE
BEGIN:VEVENT
DTSTART;TZID=America/New_York:20250315T090000
DTEND;TZID=America/New_York:20250315T113000
DTSTAMP:20260423T063318
CREATED:20250214T164555Z
LAST-MODIFIED:20250214T164811Z
UID:10001366-1742029200-1742038200@www.visitmesquitetx.com
SUMMARY:Celebration of Women
DESCRIPTION:XCO Latin By Jackie Presents  \n\n\n\n2025 Convention Celebrando a La Mujer\n\n\n\nCome and experience the largest workout class. Visit XCO Latin By Jackie website for details and ticket information. \n\n\n\nDetails here!
URL:https://www.visitmesquitetx.com/event/celebration-of-women/
CATEGORIES:Conventions & Expos,Sports
ATTACH;FMTTYPE=image/jpeg:https://www.visitmesquitetx.com/wp-content/uploads/2025/02/475704438_1217177427080651_2295310486640660024_n.jpg
END:VEVENT
BEGIN:VEVENT
DTSTART;TZID=America/New_York:20250322T090000
DTEND;TZID=America/New_York:20250322T163000
DTSTAMP:20260423T063318
CREATED:20250320T164552Z
LAST-MODIFIED:20250320T164559Z
UID:10001415-1742634000-1742661000@www.visitmesquitetx.com
SUMMARY:Elestrals Dallas Open 2025
DESCRIPTION:Forge your Legacy At The Elestrals Dallas Open 2025!\n\n\n\nWelcome to the Mythical World of Elestrals! \n\n\n\nStep into the arena for the ultimate Elestrals TCG showdown! Clash alongside fellow Casters\, forge unforgettable memories\, and claim exclusive rewards.  \n\n\n\n\nView event\n\n\n\n\n\n\n\n\n\n	\n		\n\n\n\n		\n			\n		\n\n	\n\n\n\n\n\n	\n		\n			\n\nFeatured Events\n\n\n\n\n\n\n\nCheck out our awesome list of curated events in Mesquite\, Texas. \n\n\n\n\n\n\n\n\n\n\n\n\n\n\n			\n									\n													\n	\n		\n			\n				\n																				\n			\n			\n				\n											\n							Music						\n					\n					\n						\n							Dallas Jazz Orchestra						\n					\n\n											\n															\n									April 26\, 2026									@ 7:00 pm – 9:00 pm								 \n							\n							\n															\n									Every month that begins at 7:00 pm on day Fourth of the month\, repeating indefinitely – View All								 \n							\n													\n									\n				\n					\n						\n							View Details\n						\n					\n									\n			\n		\n	\n	\n													\n	\n		\n			\n				\n																				\n			\n			\n				\n											\n							Music						\n					\n					\n						\n							Rock Ridge Big Band						\n					\n\n											\n															\n									May 3\, 2026									@ 7:00 pm – 9:00 pm								 \n							\n							\n															\n									Every month that begins at 7:00 pm on day First of the month\, repeating indefinitely – View All								 \n							\n													\n									\n				\n					\n						\n							View Details\n						\n					\n									\n			\n		\n	\n	\n													\n	\n		\n			\n				\n																				\n			\n			\n				\n											\n							Music						\n					\n					\n						\n							Dallas Jazz Orchestra						\n					\n\n											\n															\n									May 10\, 2026									@ 7:00 pm – 9:00 pm								 \n							\n							\n															\n									Every month that begins at 7:00 pm on day Second of the month\, repeating indefinitely – View All								 \n							\n													\n									\n				\n					\n						\n							View Details
URL:https://www.visitmesquitetx.com/event/elestrals-dallas-open-2025/2025-03-22/
CATEGORIES:Arts & Entertainment,Conventions & Expos
ATTACH;FMTTYPE=image/png:https://www.visitmesquitetx.com/wp-content/uploads/2025/03/Untitled-640-x-680-px-8.png
END:VEVENT
BEGIN:VEVENT
DTSTART;TZID=America/New_York:20250322T100000
DTEND;TZID=America/New_York:20250322T180000
DTSTAMP:20260423T063318
CREATED:20250320T155042Z
LAST-MODIFIED:20250320T162655Z
UID:10001412-1742637600-1742666400@www.visitmesquitetx.com
SUMMARY:The Shoppers Market
DESCRIPTION:2025 Dallas Area Cards & More Expo\n\n\n\nMesquite\, here we come! There will be 75+ tables of sports cards\, Pokémon\, anime\, comics\, memorabilia\, and much more! \n\n\n\nFREE pack of Sports OR Pokémon cards to the first 100 attendees through the door! \n\n\n\nSports cards\, sports memorabilia\, Pokémon\, anime\, comics\, magic\, vintage\, and collectibles. Buy-Sell-Trade! \n\n\n\nFREE ADMISSION! \n\n\n\nOver 75 tables! Vendors\, music\, food\, drinks\, and more. \n\n\n\nVendor Trade Party from 6pm-8pm on March 22nd includes free drinks & pizza. \n\n\n\n\nView more info here!\n\n\n\n\n\n\n\n\n\n	\n		\n\n\n\n		\n			\n		\n\n	\n\n\n\n\n\n	\n		\n			\n\nFeatured Events\n\n\n\n\n\n\n\nCheck out our awesome list of curated events in Mesquite\, Texas. \n\n\n\n\n\n\n\n\n\n\n\n\n\n\n			\n									\n													\n	\n		\n			\n				\n																				\n			\n			\n				\n											\n							Music						\n					\n					\n						\n							Dallas Jazz Orchestra						\n					\n\n											\n															\n									April 26\, 2026									@ 7:00 pm – 9:00 pm								 \n							\n							\n															\n									Every month that begins at 7:00 pm on day Fourth of the month\, repeating indefinitely – View All								 \n							\n													\n									\n				\n					\n						\n							View Details\n						\n					\n									\n			\n		\n	\n	\n													\n	\n		\n			\n				\n																				\n			\n			\n				\n											\n							Music						\n					\n					\n						\n							Rock Ridge Big Band						\n					\n\n											\n															\n									May 3\, 2026									@ 7:00 pm – 9:00 pm								 \n							\n							\n															\n									Every month that begins at 7:00 pm on day First of the month\, repeating indefinitely – View All								 \n							\n													\n									\n				\n					\n						\n							View Details\n						\n					\n									\n			\n		\n	\n	\n													\n	\n		\n			\n				\n																				\n			\n			\n				\n											\n							Music						\n					\n					\n						\n							Dallas Jazz Orchestra						\n					\n\n											\n															\n									May 10\, 2026									@ 7:00 pm – 9:00 pm								 \n							\n							\n															\n									Every month that begins at 7:00 pm on day Second of the month\, repeating indefinitely – View All								 \n							\n													\n									\n				\n					\n						\n							View Details
URL:https://www.visitmesquitetx.com/event/the-shoppers-market/
CATEGORIES:Arts & Entertainment,Conventions & Expos
ATTACH;FMTTYPE=image/png:https://www.visitmesquitetx.com/wp-content/uploads/2025/03/Untitled-640-x-680-px-7.png
END:VEVENT
BEGIN:VEVENT
DTSTART;TZID=America/New_York:20250323T090000
DTEND;TZID=America/New_York:20250323T163000
DTSTAMP:20260423T063318
CREATED:20250320T164552Z
LAST-MODIFIED:20250320T164559Z
UID:10001416-1742720400-1742747400@www.visitmesquitetx.com
SUMMARY:Elestrals Dallas Open 2025
DESCRIPTION:Forge your Legacy At The Elestrals Dallas Open 2025!\n\n\n\nWelcome to the Mythical World of Elestrals! \n\n\n\nStep into the arena for the ultimate Elestrals TCG showdown! Clash alongside fellow Casters\, forge unforgettable memories\, and claim exclusive rewards.  \n\n\n\n\nView event\n\n\n\n\n\n\n\n\n\n	\n		\n\n\n\n		\n			\n		\n\n	\n\n\n\n\n\n	\n		\n			\n\nFeatured Events\n\n\n\n\n\n\n\nCheck out our awesome list of curated events in Mesquite\, Texas. \n\n\n\n\n\n\n\n\n\n\n\n\n\n\n			\n									\n													\n	\n		\n			\n				\n																				\n			\n			\n				\n											\n							Music						\n					\n					\n						\n							Dallas Jazz Orchestra						\n					\n\n											\n															\n									April 26\, 2026									@ 7:00 pm – 9:00 pm								 \n							\n							\n															\n									Every month that begins at 7:00 pm on day Fourth of the month\, repeating indefinitely – View All								 \n							\n													\n									\n				\n					\n						\n							View Details\n						\n					\n									\n			\n		\n	\n	\n													\n	\n		\n			\n				\n																				\n			\n			\n				\n											\n							Music						\n					\n					\n						\n							Rock Ridge Big Band						\n					\n\n											\n															\n									May 3\, 2026									@ 7:00 pm – 9:00 pm								 \n							\n							\n															\n									Every month that begins at 7:00 pm on day First of the month\, repeating indefinitely – View All								 \n							\n													\n									\n				\n					\n						\n							View Details\n						\n					\n									\n			\n		\n	\n	\n													\n	\n		\n			\n				\n																				\n			\n			\n				\n											\n							Music						\n					\n					\n						\n							Dallas Jazz Orchestra						\n					\n\n											\n															\n									May 10\, 2026									@ 7:00 pm – 9:00 pm								 \n							\n							\n															\n									Every month that begins at 7:00 pm on day Second of the month\, repeating indefinitely – View All								 \n							\n													\n									\n				\n					\n						\n							View Details
URL:https://www.visitmesquitetx.com/event/elestrals-dallas-open-2025/2025-03-23/
CATEGORIES:Arts & Entertainment,Conventions & Expos
ATTACH;FMTTYPE=image/png:https://www.visitmesquitetx.com/wp-content/uploads/2025/03/Untitled-640-x-680-px-8.png
END:VEVENT
BEGIN:VEVENT
DTSTART;TZID=America/New_York:20250327T120000
DTEND;TZID=America/New_York:20250327T203000
DTSTAMP:20260423T063318
CREATED:20250324T163729Z
LAST-MODIFIED:20250324T163734Z
UID:10001419-1743076800-1743107400@www.visitmesquitetx.com
SUMMARY:Just Between Friends
DESCRIPTION:JBF Dallas/Mesquite\n\n\n\nAt Just Between Friends Dallas/Mesquite you will save on everything for kids and maternity. \n\n\n\nWe have thousands of items\, including kids’ clothes\, baby equipment\, shoes\, toys\, books\, games\, puzzles\, and more—all in one place. We have huge selections at awesome prices! \n\n\n\nLocal families bring their kid’s items to sell and so can you. Clean out the clutter and make some extra Cash! \n\n\n\n\nView more info here!\n\n\n\n\n\n\n\n\n\n	\n		\n\n\n\n		\n			\n		\n\n	\n\n\n\n\n\n	\n		\n			\n\nFeatured Events\n\n\n\n\n\n\n\nCheck out our awesome list of curated events in Mesquite\, Texas. \n\n\n\n\n\n\n\n\n\n\n\n\n\n\n			\n									\n													\n	\n		\n			\n				\n																				\n			\n			\n				\n											\n							Music						\n					\n					\n						\n							Dallas Jazz Orchestra						\n					\n\n											\n															\n									April 26\, 2026									@ 7:00 pm – 9:00 pm								 \n							\n							\n															\n									Every month that begins at 7:00 pm on day Fourth of the month\, repeating indefinitely – View All								 \n							\n													\n									\n				\n					\n						\n							View Details\n						\n					\n									\n			\n		\n	\n	\n													\n	\n		\n			\n				\n																				\n			\n			\n				\n											\n							Music						\n					\n					\n						\n							Rock Ridge Big Band						\n					\n\n											\n															\n									May 3\, 2026									@ 7:00 pm – 9:00 pm								 \n							\n							\n															\n									Every month that begins at 7:00 pm on day First of the month\, repeating indefinitely – View All								 \n							\n													\n									\n				\n					\n						\n							View Details\n						\n					\n									\n			\n		\n	\n	\n													\n	\n		\n			\n				\n																				\n			\n			\n				\n											\n							Music						\n					\n					\n						\n							Dallas Jazz Orchestra						\n					\n\n											\n															\n									May 10\, 2026									@ 7:00 pm – 9:00 pm								 \n							\n							\n															\n									Every month that begins at 7:00 pm on day Second of the month\, repeating indefinitely – View All								 \n							\n													\n									\n				\n					\n						\n							View Details
URL:https://www.visitmesquitetx.com/event/just-between-friends/2025-03-27/
CATEGORIES:Community,Conventions & Expos
ATTACH;FMTTYPE=image/jpeg:https://www.visitmesquitetx.com/wp-content/uploads/2025/03/486161763_1072169894939000_1284746974550093205_n.jpg
END:VEVENT
BEGIN:VEVENT
DTSTART;TZID=America/New_York:20250328T090000
DTEND;TZID=America/New_York:20250328T190000
DTSTAMP:20260423T063319
CREATED:20250324T163729Z
LAST-MODIFIED:20250324T163734Z
UID:10001420-1743152400-1743188400@www.visitmesquitetx.com
SUMMARY:Just Between Friends
DESCRIPTION:JBF Dallas/Mesquite\n\n\n\nAt Just Between Friends Dallas/Mesquite you will save on everything for kids and maternity. \n\n\n\nWe have thousands of items\, including kids’ clothes\, baby equipment\, shoes\, toys\, books\, games\, puzzles\, and more—all in one place. We have huge selections at awesome prices! \n\n\n\nLocal families bring their kid’s items to sell and so can you. Clean out the clutter and make some extra Cash! \n\n\n\n\nView more info here!\n\n\n\n\n\n\n\n\n\n	\n		\n\n\n\n		\n			\n		\n\n	\n\n\n\n\n\n	\n		\n			\n\nFeatured Events\n\n\n\n\n\n\n\nCheck out our awesome list of curated events in Mesquite\, Texas. \n\n\n\n\n\n\n\n\n\n\n\n\n\n\n			\n									\n													\n	\n		\n			\n				\n																				\n			\n			\n				\n											\n							Music						\n					\n					\n						\n							Dallas Jazz Orchestra						\n					\n\n											\n															\n									April 26\, 2026									@ 7:00 pm – 9:00 pm								 \n							\n							\n															\n									Every month that begins at 7:00 pm on day Fourth of the month\, repeating indefinitely – View All								 \n							\n													\n									\n				\n					\n						\n							View Details\n						\n					\n									\n			\n		\n	\n	\n													\n	\n		\n			\n				\n																				\n			\n			\n				\n											\n							Music						\n					\n					\n						\n							Rock Ridge Big Band						\n					\n\n											\n															\n									May 3\, 2026									@ 7:00 pm – 9:00 pm								 \n							\n							\n															\n									Every month that begins at 7:00 pm on day First of the month\, repeating indefinitely – View All								 \n							\n													\n									\n				\n					\n						\n							View Details\n						\n					\n									\n			\n		\n	\n	\n													\n	\n		\n			\n				\n																				\n			\n			\n				\n											\n							Music						\n					\n					\n						\n							Dallas Jazz Orchestra						\n					\n\n											\n															\n									May 10\, 2026									@ 7:00 pm – 9:00 pm								 \n							\n							\n															\n									Every month that begins at 7:00 pm on day Second of the month\, repeating indefinitely – View All								 \n							\n													\n									\n				\n					\n						\n							View Details
URL:https://www.visitmesquitetx.com/event/just-between-friends/2025-03-28/
CATEGORIES:Community,Conventions & Expos
ATTACH;FMTTYPE=image/jpeg:https://www.visitmesquitetx.com/wp-content/uploads/2025/03/486161763_1072169894939000_1284746974550093205_n.jpg
END:VEVENT
BEGIN:VEVENT
DTSTART;TZID=America/New_York:20250329T090000
DTEND;TZID=America/New_York:20250329T140000
DTSTAMP:20260423T063319
CREATED:20250324T163729Z
LAST-MODIFIED:20250324T163734Z
UID:10001421-1743238800-1743256800@www.visitmesquitetx.com
SUMMARY:Just Between Friends
DESCRIPTION:JBF Dallas/Mesquite\n\n\n\nAt Just Between Friends Dallas/Mesquite you will save on everything for kids and maternity. \n\n\n\nWe have thousands of items\, including kids’ clothes\, baby equipment\, shoes\, toys\, books\, games\, puzzles\, and more—all in one place. We have huge selections at awesome prices! \n\n\n\nLocal families bring their kid’s items to sell and so can you. Clean out the clutter and make some extra Cash! \n\n\n\n\nView more info here!\n\n\n\n\n\n\n\n\n\n	\n		\n\n\n\n		\n			\n		\n\n	\n\n\n\n\n\n	\n		\n			\n\nFeatured Events\n\n\n\n\n\n\n\nCheck out our awesome list of curated events in Mesquite\, Texas. \n\n\n\n\n\n\n\n\n\n\n\n\n\n\n			\n									\n													\n	\n		\n			\n				\n																				\n			\n			\n				\n											\n							Music						\n					\n					\n						\n							Dallas Jazz Orchestra						\n					\n\n											\n															\n									April 26\, 2026									@ 7:00 pm – 9:00 pm								 \n							\n							\n															\n									Every month that begins at 7:00 pm on day Fourth of the month\, repeating indefinitely – View All								 \n							\n													\n									\n				\n					\n						\n							View Details\n						\n					\n									\n			\n		\n	\n	\n													\n	\n		\n			\n				\n																				\n			\n			\n				\n											\n							Music						\n					\n					\n						\n							Rock Ridge Big Band						\n					\n\n											\n															\n									May 3\, 2026									@ 7:00 pm – 9:00 pm								 \n							\n							\n															\n									Every month that begins at 7:00 pm on day First of the month\, repeating indefinitely – View All								 \n							\n													\n									\n				\n					\n						\n							View Details\n						\n					\n									\n			\n		\n	\n	\n													\n	\n		\n			\n				\n																				\n			\n			\n				\n											\n							Music						\n					\n					\n						\n							Dallas Jazz Orchestra						\n					\n\n											\n															\n									May 10\, 2026									@ 7:00 pm – 9:00 pm								 \n							\n							\n															\n									Every month that begins at 7:00 pm on day Second of the month\, repeating indefinitely – View All								 \n							\n													\n									\n				\n					\n						\n							View Details
URL:https://www.visitmesquitetx.com/event/just-between-friends/2025-03-29/1/
CATEGORIES:Community,Conventions & Expos
ATTACH;FMTTYPE=image/jpeg:https://www.visitmesquitetx.com/wp-content/uploads/2025/03/486161763_1072169894939000_1284746974550093205_n.jpg
END:VEVENT
BEGIN:VEVENT
DTSTART;TZID=America/New_York:20250329T160000
DTEND;TZID=America/New_York:20250329T200000
DTSTAMP:20260423T063319
CREATED:20250324T163729Z
LAST-MODIFIED:20250324T163734Z
UID:10001422-1743264000-1743278400@www.visitmesquitetx.com
SUMMARY:Just Between Friends
DESCRIPTION:JBF Dallas/Mesquite\n\n\n\nAt Just Between Friends Dallas/Mesquite you will save on everything for kids and maternity. \n\n\n\nWe have thousands of items\, including kids’ clothes\, baby equipment\, shoes\, toys\, books\, games\, puzzles\, and more—all in one place. We have huge selections at awesome prices! \n\n\n\nLocal families bring their kid’s items to sell and so can you. Clean out the clutter and make some extra Cash! \n\n\n\n\nView more info here!\n\n\n\n\n\n\n\n\n\n	\n		\n\n\n\n		\n			\n		\n\n	\n\n\n\n\n\n	\n		\n			\n\nFeatured Events\n\n\n\n\n\n\n\nCheck out our awesome list of curated events in Mesquite\, Texas. \n\n\n\n\n\n\n\n\n\n\n\n\n\n\n			\n									\n													\n	\n		\n			\n				\n																				\n			\n			\n				\n											\n							Music						\n					\n					\n						\n							Dallas Jazz Orchestra						\n					\n\n											\n															\n									April 26\, 2026									@ 7:00 pm – 9:00 pm								 \n							\n							\n															\n									Every month that begins at 7:00 pm on day Fourth of the month\, repeating indefinitely – View All								 \n							\n													\n									\n				\n					\n						\n							View Details\n						\n					\n									\n			\n		\n	\n	\n													\n	\n		\n			\n				\n																				\n			\n			\n				\n											\n							Music						\n					\n					\n						\n							Rock Ridge Big Band						\n					\n\n											\n															\n									May 3\, 2026									@ 7:00 pm – 9:00 pm								 \n							\n							\n															\n									Every month that begins at 7:00 pm on day First of the month\, repeating indefinitely – View All								 \n							\n													\n									\n				\n					\n						\n							View Details\n						\n					\n									\n			\n		\n	\n	\n													\n	\n		\n			\n				\n																				\n			\n			\n				\n											\n							Music						\n					\n					\n						\n							Dallas Jazz Orchestra						\n					\n\n											\n															\n									May 10\, 2026									@ 7:00 pm – 9:00 pm								 \n							\n							\n															\n									Every month that begins at 7:00 pm on day Second of the month\, repeating indefinitely – View All								 \n							\n													\n									\n				\n					\n						\n							View Details
URL:https://www.visitmesquitetx.com/event/just-between-friends/2025-03-29/2/
CATEGORIES:Community,Conventions & Expos
ATTACH;FMTTYPE=image/jpeg:https://www.visitmesquitetx.com/wp-content/uploads/2025/03/486161763_1072169894939000_1284746974550093205_n.jpg
END:VEVENT
BEGIN:VEVENT
DTSTART;TZID=America/New_York:20250330T100000
DTEND;TZID=America/New_York:20250330T160000
DTSTAMP:20260423T063319
CREATED:20250324T163729Z
LAST-MODIFIED:20250324T163734Z
UID:10001423-1743328800-1743350400@www.visitmesquitetx.com
SUMMARY:Just Between Friends
DESCRIPTION:JBF Dallas/Mesquite\n\n\n\nAt Just Between Friends Dallas/Mesquite you will save on everything for kids and maternity. \n\n\n\nWe have thousands of items\, including kids’ clothes\, baby equipment\, shoes\, toys\, books\, games\, puzzles\, and more—all in one place. We have huge selections at awesome prices! \n\n\n\nLocal families bring their kid’s items to sell and so can you. Clean out the clutter and make some extra Cash! \n\n\n\n\nView more info here!\n\n\n\n\n\n\n\n\n\n	\n		\n\n\n\n		\n			\n		\n\n	\n\n\n\n\n\n	\n		\n			\n\nFeatured Events\n\n\n\n\n\n\n\nCheck out our awesome list of curated events in Mesquite\, Texas. \n\n\n\n\n\n\n\n\n\n\n\n\n\n\n			\n									\n													\n	\n		\n			\n				\n																				\n			\n			\n				\n											\n							Music						\n					\n					\n						\n							Dallas Jazz Orchestra						\n					\n\n											\n															\n									April 26\, 2026									@ 7:00 pm – 9:00 pm								 \n							\n							\n															\n									Every month that begins at 7:00 pm on day Fourth of the month\, repeating indefinitely – View All								 \n							\n													\n									\n				\n					\n						\n							View Details\n						\n					\n									\n			\n		\n	\n	\n													\n	\n		\n			\n				\n																				\n			\n			\n				\n											\n							Music						\n					\n					\n						\n							Rock Ridge Big Band						\n					\n\n											\n															\n									May 3\, 2026									@ 7:00 pm – 9:00 pm								 \n							\n							\n															\n									Every month that begins at 7:00 pm on day First of the month\, repeating indefinitely – View All								 \n							\n													\n									\n				\n					\n						\n							View Details\n						\n					\n									\n			\n		\n	\n	\n													\n	\n		\n			\n				\n																				\n			\n			\n				\n											\n							Music						\n					\n					\n						\n							Dallas Jazz Orchestra						\n					\n\n											\n															\n									May 10\, 2026									@ 7:00 pm – 9:00 pm								 \n							\n							\n															\n									Every month that begins at 7:00 pm on day Second of the month\, repeating indefinitely – View All								 \n							\n													\n									\n				\n					\n						\n							View Details
URL:https://www.visitmesquitetx.com/event/just-between-friends/2025-03-30/
CATEGORIES:Community,Conventions & Expos
ATTACH;FMTTYPE=image/jpeg:https://www.visitmesquitetx.com/wp-content/uploads/2025/03/486161763_1072169894939000_1284746974550093205_n.jpg
END:VEVENT
END:VCALENDAR